BEGIN:VCALENDAR
VERSION:2.0
PRODID:-//ChamberMaster//Event Calendar 2.0//EN
METHOD:PUBLISH
X-PUBLISHED-TTL:P3D
REFRESH-INTERVAL:P3D
CALSCALE:GREGORIAN
BEGIN:VEVENT
DTSTART:20270305T000000Z
DTEND:20270305T000000Z
X-MICROSOFT-CDO-ALLDAYEVENT:FALSE
SUMMARY:Ogemaw County Fairgrounds Monthly Meeting
DESCRIPTION:
X-ALT-DESC;FMTTYPE=text/html:
LOCATION:Building #1 Ogemaw County Fairgrounds 2300 Rifle River Trail\, West Branch
UID:e.1573.28321
SEQUENCE:3
DTSTAMP:20260420T201812Z
URL:http://events.visitwestbranch.com/events/details/ogemaw-county-fairgrounds-monthly-meeting-03-04-2027-28321
END:VEVENT

END:VCALENDAR
