BEGIN:VCALENDAR
VERSION:2.0
PRODID:-//ChamberMaster//Event Calendar 2.0//EN
METHOD:PUBLISH
X-PUBLISHED-TTL:P3D
REFRESH-INTERVAL:P3D
CALSCALE:GREGORIAN
BEGIN:VEVENT
DTSTART:20270818T150000Z
DTEND:20270818T150000Z
X-MICROSOFT-CDO-ALLDAYEVENT:FALSE
SUMMARY:Pre-School Storytime at West Branch District Library
DESCRIPTION:
X-ALT-DESC;FMTTYPE=text/html:
LOCATION:West Branch District Library Community Room 119 N. Fourth Street\, West Branch\, MI 48661
UID:e.1573.32381
SEQUENCE:3
DTSTAMP:20260421T030720Z
URL:http://events.visitwestbranch.com/events/details/pre-school-storytime-at-west-branch-district-library-08-18-2027-32381
END:VEVENT

END:VCALENDAR
